BEGIN:VCALENDAR
VERSION:2.0
PRODID:-//Ameren Illinois Energy Efficiency Program - ECPv6.15.17//NONSGML v1.0//EN
CALSCALE:GREGORIAN
METHOD:PUBLISH
X-WR-CALNAME:Ameren Illinois Energy Efficiency Program
X-ORIGINAL-URL:https://amerenillinoissavings.com
X-WR-CALDESC:Events for Ameren Illinois Energy Efficiency Program
REFRESH-INTERVAL;VALUE=DURATION:PT1H
X-Robots-Tag:noindex
X-PUBLISHED-TTL:PT1H
BEGIN:VTIMEZONE
TZID:America/Chicago
BEGIN:DAYLIGHT
TZOFFSETFROM:-0600
TZOFFSETTO:-0500
TZNAME:CDT
DTSTART:20250309T080000
END:DAYLIGHT
BEGIN:STANDARD
TZOFFSETFROM:-0500
TZOFFSETTO:-0600
TZNAME:CST
DTSTART:20251102T070000
END:STANDARD
BEGIN:DAYLIGHT
TZOFFSETFROM:-0600
TZOFFSETTO:-0500
TZNAME:CDT
DTSTART:20260308T080000
END:DAYLIGHT
BEGIN:STANDARD
TZOFFSETFROM:-0500
TZOFFSETTO:-0600
TZNAME:CST
DTSTART:20261101T070000
END:STANDARD
BEGIN:DAYLIGHT
TZOFFSETFROM:-0600
TZOFFSETTO:-0500
TZNAME:CDT
DTSTART:20270314T080000
END:DAYLIGHT
BEGIN:STANDARD
TZOFFSETFROM:-0500
TZOFFSETTO:-0600
TZNAME:CST
DTSTART:20271107T070000
END:STANDARD
END:VTIMEZONE
BEGIN:VEVENT
DTSTART;TZID=America/Chicago:20260415T090000
DTEND;TZID=America/Chicago:20260422T133000
DTSTAMP:20260422T015104
CREATED:20260414T195530Z
LAST-MODIFIED:20260414T195530Z
UID:10000560-1776243600-1776864600@amerenillinoissavings.com
SUMMARY:Ameren Illinois Earth Day
DESCRIPTION:This is an Ameren Earth Day event. I will be setting up a table to speak on residential programs.
URL:https://amerenillinoissavings.com/event/ameren-illinois-earth-day/
LOCATION:Ameren CCO\, 6 Richard Mark Wy\, Collinsville\, 62234
CATEGORIES: Home Efficiency Income Qualified,Residential
ORGANIZER;CN="Kristen Wallace":MAILTO:kwallace@wmenergy.com
END:VEVENT
BEGIN:VEVENT
DTSTART;TZID=America/Chicago:20260421T170000
DTEND;TZID=America/Chicago:20260424T120000
DTSTAMP:20260422T015104
CREATED:20260325T152644Z
LAST-MODIFIED:20260325T152644Z
UID:10000547-1776790800-1777032000@amerenillinoissavings.com
SUMMARY:IACO Spring Conference
DESCRIPTION:The Illinois Association of County Officials\, a statewide organization of affiliate county official groups\, is dedicated to maintaining and improving the quality of county government through education.
URL:https://amerenillinoissavings.com/event/iaco-spring-conference/
LOCATION:Crowne Plaza Springfield\, 3000 S Dirksen Pkwy\, Springfield\, 62703
CATEGORIES:Business
ORGANIZER;CN="Terisa Lingafelter":MAILTO:tlingafelter@ameren.com
END:VEVENT
BEGIN:VEVENT
DTSTART;TZID=America/Chicago:20260422T075000
DTEND;TZID=America/Chicago:20260422T083000
DTSTAMP:20260422T015104
CREATED:20260414T195636Z
LAST-MODIFIED:20260414T195636Z
UID:10000587-1776844200-1776846600@amerenillinoissavings.com
SUMMARY:Innovation Presentation at Collinsville High School
DESCRIPTION:Energy Educators provide an engaging and fun classroom presentation about energy efficiency and take-home energy kits. This presentation is offered to 9-12th graders and their teachers in the Ameren Illinois Natural Gas and Electric Dual Service Territory.
URL:https://amerenillinoissavings.com/event/innovation-presentation-at-collinsville-high-school-3/
LOCATION:Collinsville High School\, 2201 S Morrison Ave\, Collinsville\, 62234
CATEGORIES:High School Innovation (SKIT),Residential
ORGANIZER;CN="Emily Mastin":MAILTO:emilym@nef1.org
END:VEVENT
BEGIN:VEVENT
DTSTART;TZID=America/Chicago:20260422T090000
DTEND;TZID=America/Chicago:20260422T133000
DTSTAMP:20260422T015104
CREATED:20260421T205836Z
LAST-MODIFIED:20260421T205836Z
UID:10000597-1776848400-1776864600@amerenillinoissavings.com
SUMMARY:Ameren Illinois Earth Day
DESCRIPTION:This is an Ameren Illinois hosted event for Earth Day.
URL:https://amerenillinoissavings.com/event/ameren-illinois-earth-day-2/
LOCATION:Ameren Illinois-Collinsville\, 6 Richard Mark Wy\, Collinsville\, 62234
CATEGORIES:Residential
ORGANIZER;CN="Kristen Wallace":MAILTO:kwallace@wmenergy.com
END:VEVENT
BEGIN:VEVENT
DTSTART;TZID=America/Chicago:20260422T100000
DTEND;TZID=America/Chicago:20260422T110000
DTSTAMP:20260422T015104
CREATED:20260114T213206Z
LAST-MODIFIED:20260114T213206Z
UID:10000494-1776852000-1776855600@amerenillinoissavings.com
SUMMARY:Chester P. Sutton Community Center of Edgar County
DESCRIPTION:This site provides Senior Information\, Caregiver Advisory Service\, and Grandparents Raising Grandchildren services. They are a Peace Meal site. We will present EE information. Refreshments provided by the senior center.
URL:https://amerenillinoissavings.com/event/chester-p-sutton-community-center-of-edgar-county/
LOCATION:Chester P. Sutton Community Center of Edgar County\, 256 West Court St\, Paris\, 61944
CATEGORIES: Home Efficiency Income Qualified, Retail Products,Home Efficiency Market Rate,Residential,Smart Savers
ORGANIZER;CN="Andrea Evey":MAILTO:evey@wmenergy.com
END:VEVENT
BEGIN:VEVENT
DTSTART;TZID=America/Chicago:20260422T103000
DTEND;TZID=America/Chicago:20260422T113000
DTSTAMP:20260422T015104
CREATED:20260317T143524Z
LAST-MODIFIED:20260317T143524Z
UID:10000540-1776853800-1776857400@amerenillinoissavings.com
SUMMARY:Gordon Behrents Senior Center Presentation
DESCRIPTION:Gordon Behrents Senior Center provides adult day services to persons 60 and over or those with specific needs. This presentation will take place prior to lunch and is open to community members that attend events at the senior center.
URL:https://amerenillinoissavings.com/event/gordon-behrents-senior-center-presentation/
LOCATION:Gordon Behrents Senior Center\, 2015 Windish Dr\, Galesburg\, 61410
CATEGORIES: Home Efficiency Income Qualified,Home Efficiency Market Rate,Multifamily,Residential,Residential Eligibility Tool
ORGANIZER;CN="Kierstin Newton":MAILTO:knewton@wmenergy.com
END:VEVENT
BEGIN:VEVENT
DTSTART;TZID=America/Chicago:20260422T130000
DTEND;TZID=America/Chicago:20260423T150000
DTSTAMP:20260422T015104
CREATED:20260317T143527Z
LAST-MODIFIED:20260317T143527Z
UID:10000541-1776862800-1776956400@amerenillinoissavings.com
SUMMARY:ILAPPA/Chief Engineers Conference
DESCRIPTION:University of Illinois Urbana-Champaign is hosting this year’s ILAPPA Conference & Supervisor Toolkit in Conjunction with Chief Engineers & Facility Managers Conference.
URL:https://amerenillinoissavings.com/event/ilappa-chief-engineers-conference/
LOCATION:Illini Union\, Urbana\, 1401 W Green St\, Urbana\, 61801
CATEGORIES:Business
ORGANIZER;CN="Terisa Lingafelter":MAILTO:tlingafelter@ameren.com
END:VEVENT
BEGIN:VEVENT
DTSTART;TZID=America/Chicago:20260422T133000
DTEND;TZID=America/Chicago:20260422T153000
DTSTAMP:20260422T015104
CREATED:20260414T195531Z
LAST-MODIFIED:20260414T195531Z
UID:10000563-1776864600-1776871800@amerenillinoissavings.com
SUMMARY:2nd Annual Reverse Resource Fair
DESCRIPTION:This is an event designed to equip frontline workers with the tools they need to better serve their clients by connecting them with local organizations. This event is specifically for social service workers and volunteers.
URL:https://amerenillinoissavings.com/event/2nd-annual-reverse-resource-fair/
LOCATION:Goodwill Commons\, 2319 E War Memorial Dr\, Peoria\, 61614
CATEGORIES: Home Efficiency Income Qualified, Retail Products,Residential,Residential Eligibility Tool
ORGANIZER;CN="Kierstin Newton":MAILTO:knewton@wmenergy.com
END:VEVENT
END:VCALENDAR