BEGIN:VCALENDAR
VERSION:2.0
PRODID:-//Ameren Illinois Energy Efficiency Program - ECPv6.15.17//NONSGML v1.0//EN
CALSCALE:GREGORIAN
METHOD:PUBLISH
X-WR-CALNAME:Ameren Illinois Energy Efficiency Program
X-ORIGINAL-URL:https://amerenillinoissavings.com
X-WR-CALDESC:Events for Ameren Illinois Energy Efficiency Program
REFRESH-INTERVAL;VALUE=DURATION:PT1H
X-Robots-Tag:noindex
X-PUBLISHED-TTL:PT1H
BEGIN:VTIMEZONE
TZID:America/Chicago
BEGIN:DAYLIGHT
TZOFFSETFROM:-0600
TZOFFSETTO:-0500
TZNAME:CDT
DTSTART:20250309T080000
END:DAYLIGHT
BEGIN:STANDARD
TZOFFSETFROM:-0500
TZOFFSETTO:-0600
TZNAME:CST
DTSTART:20251102T070000
END:STANDARD
BEGIN:DAYLIGHT
TZOFFSETFROM:-0600
TZOFFSETTO:-0500
TZNAME:CDT
DTSTART:20260308T080000
END:DAYLIGHT
BEGIN:STANDARD
TZOFFSETFROM:-0500
TZOFFSETTO:-0600
TZNAME:CST
DTSTART:20261101T070000
END:STANDARD
BEGIN:DAYLIGHT
TZOFFSETFROM:-0600
TZOFFSETTO:-0500
TZNAME:CDT
DTSTART:20270314T080000
END:DAYLIGHT
BEGIN:STANDARD
TZOFFSETFROM:-0500
TZOFFSETTO:-0600
TZNAME:CST
DTSTART:20271107T070000
END:STANDARD
END:VTIMEZONE
BEGIN:VEVENT
DTSTART;TZID=America/Chicago:20260422T103000
DTEND;TZID=America/Chicago:20260422T113000
DTSTAMP:20260420T231443
CREATED:20260317T143524Z
LAST-MODIFIED:20260317T143524Z
UID:10000540-1776853800-1776857400@amerenillinoissavings.com
SUMMARY:Gordon Behrents Senior Center Presentation
DESCRIPTION:Gordon Behrents Senior Center provides adult day services to persons 60 and over or those with specific needs. This presentation will take place prior to lunch and is open to community members that attend events at the senior center.
URL:https://amerenillinoissavings.com/event/gordon-behrents-senior-center-presentation/
LOCATION:Gordon Behrents Senior Center\, 2015 Windish Dr\, Galesburg\, 61410
CATEGORIES: Home Efficiency Income Qualified,Home Efficiency Market Rate,Multifamily,Residential,Residential Eligibility Tool
ORGANIZER;CN="Kierstin Newton":MAILTO:knewton@wmenergy.com
END:VEVENT
BEGIN:VEVENT
DTSTART;TZID=America/Chicago:20260425T100000
DTEND;TZID=America/Chicago:20260425T130000
DTSTAMP:20260420T231443
CREATED:20260414T195534Z
LAST-MODIFIED:20260414T195534Z
UID:10000564-1777111200-1777122000@amerenillinoissavings.com
SUMMARY:4th Annual Minority Health Fair
DESCRIPTION:Different organizations will share their expertise and service with the community to make a difference in the health of the minority community and other underserved areas.
URL:https://amerenillinoissavings.com/event/4th-annual-minority-health-fair/
LOCATION:YMCA of Springfield – Downtown Branch\, 601 N 4th St\, Springfield\, 62702
CATEGORIES: Home Efficiency Income Qualified, Retail Products,Home Efficiency Market Rate,Mobile Homes,Multifamily,Residential,Smart Savers
ORGANIZER;CN="Andrea Evey":MAILTO:evey@wmenergy.com
END:VEVENT
BEGIN:VEVENT
DTSTART;TZID=America/Chicago:20260429T173000
DTEND;TZID=America/Chicago:20260429T183000
DTSTAMP:20260420T231443
CREATED:20260224T192531Z
LAST-MODIFIED:20260224T192531Z
UID:10000530-1777483800-1777487400@amerenillinoissavings.com
SUMMARY:Veterans Assistance Commission
DESCRIPTION:We are a small\, County-Funded office whose sole purpose is to help Veterans and their families. The Military Assistance Act helps to support our local Veterans who have fallen on hard times financially.
URL:https://amerenillinoissavings.com/event/veterans-assistance-commission/
LOCATION:County Board Office\, 141 S. Main St\, Decatur\, 62523
CATEGORIES: Home Efficiency Income Qualified, Retail Products,Accessibility,Healthier Homes,Home Efficiency Market Rate,Mobile Homes,Multifamily,Residential,Smart Savers
ORGANIZER;CN="Andrea Evey":MAILTO:evey@wmenergy.com
END:VEVENT
END:VCALENDAR