BEGIN:VCALENDAR
VERSION:2.0
PRODID:-//Ameren Illinois Energy Efficiency Program - ECPv6.15.17//NONSGML v1.0//EN
CALSCALE:GREGORIAN
METHOD:PUBLISH
X-WR-CALNAME:Ameren Illinois Energy Efficiency Program
X-ORIGINAL-URL:https://amerenillinoissavings.com
X-WR-CALDESC:Events for Ameren Illinois Energy Efficiency Program
REFRESH-INTERVAL;VALUE=DURATION:PT1H
X-Robots-Tag:noindex
X-PUBLISHED-TTL:PT1H
BEGIN:VTIMEZONE
TZID:America/Chicago
BEGIN:DAYLIGHT
TZOFFSETFROM:-0600
TZOFFSETTO:-0500
TZNAME:CDT
DTSTART:20250309T080000
END:DAYLIGHT
BEGIN:STANDARD
TZOFFSETFROM:-0500
TZOFFSETTO:-0600
TZNAME:CST
DTSTART:20251102T070000
END:STANDARD
BEGIN:DAYLIGHT
TZOFFSETFROM:-0600
TZOFFSETTO:-0500
TZNAME:CDT
DTSTART:20260308T080000
END:DAYLIGHT
BEGIN:STANDARD
TZOFFSETFROM:-0500
TZOFFSETTO:-0600
TZNAME:CST
DTSTART:20261101T070000
END:STANDARD
BEGIN:DAYLIGHT
TZOFFSETFROM:-0600
TZOFFSETTO:-0500
TZNAME:CDT
DTSTART:20270314T080000
END:DAYLIGHT
BEGIN:STANDARD
TZOFFSETFROM:-0500
TZOFFSETTO:-0600
TZNAME:CST
DTSTART:20271107T070000
END:STANDARD
END:VTIMEZONE
BEGIN:VEVENT
DTSTART;TZID=America/Chicago:20260407T083000
DTEND;TZID=America/Chicago:20260407T100000
DTSTAMP:20260421T193352
CREATED:20260217T211956Z
LAST-MODIFIED:20260217T211956Z
UID:10000528-1775550600-1775556000@amerenillinoissavings.com
SUMMARY:Taylorville Food Pantry
DESCRIPTION:The Taylorville Food Pantry offers fresh produce and canned goods to Christian County. Target audience is lower-income families.
URL:https://amerenillinoissavings.com/event/taylorville-food-pantry/
LOCATION:Taylorville Food Pantry\, 1429 E Main Cross\, Taylorville\, 62568
CATEGORIES: Home Efficiency Income Qualified,Accessibility,Healthier Homes,Mobile Homes,Multifamily,Residential
ORGANIZER;CN="Andrea Evey":MAILTO:evey@wmenergy.com
END:VEVENT
BEGIN:VEVENT
DTSTART;TZID=America/Chicago:20260401T113000
DTEND;TZID=America/Chicago:20260401T120000
DTSTAMP:20260421T193352
CREATED:20260122T174417Z
LAST-MODIFIED:20260122T174417Z
UID:10000498-1775043000-1775044800@amerenillinoissavings.com
SUMMARY:Child and Family Connections of Central Illinois
DESCRIPTION:The event will be for the intake specialists at Child and Family Connections of Central Illinois.
URL:https://amerenillinoissavings.com/event/child-and-family-connections-of-central-illinois/
LOCATION:Virtual\, Virtual
CATEGORIES: Home Efficiency Income Qualified, Retail Products,Accessibility,Healthier Homes,Home Efficiency Market Rate,Mobile Homes,Multifamily,Residential,Smart Savers
ORGANIZER;CN="Andrea Evey":MAILTO:evey@wmenergy.com
END:VEVENT
BEGIN:VEVENT
DTSTART;TZID=America/Chicago:20260324T130000
DTEND;TZID=America/Chicago:20260324T140000
DTSTAMP:20260421T193352
CREATED:20260114T213006Z
LAST-MODIFIED:20260114T213006Z
UID:10000490-1774357200-1774360800@amerenillinoissavings.com
SUMMARY:St. Joseph Public Library Presentation
DESCRIPTION:This event is open to the community of St. Joseph. Our team will provide water and cookies.
URL:https://amerenillinoissavings.com/event/st-joseph-public-library-presentation/
LOCATION:St. Joseph Library\, 201 N 3rd St\, Saint Joseph\, 61873
CATEGORIES: Home Efficiency Income Qualified,Home Efficiency Market Rate,Multifamily,Residential
ORGANIZER;CN="Andrea Evey":MAILTO:evey@wmenergy.com
END:VEVENT
BEGIN:VEVENT
DTSTART;TZID=America/Chicago:20260323T113000
DTEND;TZID=America/Chicago:20260323T120000
DTSTAMP:20260421T193352
CREATED:20260122T174417Z
LAST-MODIFIED:20260122T174417Z
UID:10000497-1774265400-1774267200@amerenillinoissavings.com
SUMMARY:Champaign Child and Family Connections
DESCRIPTION:The event will be for the intake specialists at Child and Family Connections of Central Illinois.
URL:https://amerenillinoissavings.com/event/champaign-child-and-family-connections/
LOCATION:Virtual\, Virtual
CATEGORIES: Home Efficiency Income Qualified, Retail Products,Accessibility,Healthier Homes,Mobile Homes,Multifamily,Residential,Smart Savers
ORGANIZER;CN="Andrea Evey":MAILTO:evey@wmenergy.com
END:VEVENT
END:VCALENDAR