BEGIN:VCALENDAR
VERSION:2.0
PRODID:-//Ameren Illinois Energy Efficiency Program - ECPv6.15.17//NONSGML v1.0//EN
CALSCALE:GREGORIAN
METHOD:PUBLISH
X-ORIGINAL-URL:https://amerenillinoissavings.com
X-WR-CALDESC:Events for Ameren Illinois Energy Efficiency Program
REFRESH-INTERVAL;VALUE=DURATION:PT1H
X-Robots-Tag:noindex
X-PUBLISHED-TTL:PT1H
BEGIN:VTIMEZONE
TZID:America/Chicago
BEGIN:DAYLIGHT
TZOFFSETFROM:-0600
TZOFFSETTO:-0500
TZNAME:CDT
DTSTART:20250309T080000
END:DAYLIGHT
BEGIN:STANDARD
TZOFFSETFROM:-0500
TZOFFSETTO:-0600
TZNAME:CST
DTSTART:20251102T070000
END:STANDARD
BEGIN:DAYLIGHT
TZOFFSETFROM:-0600
TZOFFSETTO:-0500
TZNAME:CDT
DTSTART:20260308T080000
END:DAYLIGHT
BEGIN:STANDARD
TZOFFSETFROM:-0500
TZOFFSETTO:-0600
TZNAME:CST
DTSTART:20261101T070000
END:STANDARD
BEGIN:DAYLIGHT
TZOFFSETFROM:-0600
TZOFFSETTO:-0500
TZNAME:CDT
DTSTART:20270314T080000
END:DAYLIGHT
BEGIN:STANDARD
TZOFFSETFROM:-0500
TZOFFSETTO:-0600
TZNAME:CST
DTSTART:20271107T070000
END:STANDARD
END:VTIMEZONE
BEGIN:VEVENT
DTSTART;TZID=America/Chicago:20260511T190000
DTEND;TZID=America/Chicago:20260511T200000
DTSTAMP:20260423T105908
CREATED:20260421T205836Z
LAST-MODIFIED:20260421T205836Z
UID:10000598-1778526000-1778529600@amerenillinoissavings.com
SUMMARY:Norris City Board Meeting
DESCRIPTION:I will be conducting an “electrification” based presentation during their Townhall Board Meeting.
URL:https://amerenillinoissavings.com/event/norris-city-board-meeting/
LOCATION:City Hall\, 406 S Division St\, Norris City\, 62869
CATEGORIES:Residential
ORGANIZER;CN="Kristen Wallace":MAILTO:kwallace@wmenergy.com
END:VEVENT
END:VCALENDAR