BEGIN:VCALENDAR
VERSION:2.0
PRODID:-//Ameren Illinois Energy Efficiency Program - ECPv6.15.17//NONSGML v1.0//EN
CALSCALE:GREGORIAN
METHOD:PUBLISH
X-ORIGINAL-URL:https://amerenillinoissavings.com
X-WR-CALDESC:Events for Ameren Illinois Energy Efficiency Program
REFRESH-INTERVAL;VALUE=DURATION:PT1H
X-Robots-Tag:noindex
X-PUBLISHED-TTL:PT1H
BEGIN:VTIMEZONE
TZID:America/Chicago
BEGIN:DAYLIGHT
TZOFFSETFROM:-0600
TZOFFSETTO:-0500
TZNAME:CDT
DTSTART:20250309T080000
END:DAYLIGHT
BEGIN:STANDARD
TZOFFSETFROM:-0500
TZOFFSETTO:-0600
TZNAME:CST
DTSTART:20251102T070000
END:STANDARD
BEGIN:DAYLIGHT
TZOFFSETFROM:-0600
TZOFFSETTO:-0500
TZNAME:CDT
DTSTART:20260308T080000
END:DAYLIGHT
BEGIN:STANDARD
TZOFFSETFROM:-0500
TZOFFSETTO:-0600
TZNAME:CST
DTSTART:20261101T070000
END:STANDARD
BEGIN:DAYLIGHT
TZOFFSETFROM:-0600
TZOFFSETTO:-0500
TZNAME:CDT
DTSTART:20270314T080000
END:DAYLIGHT
BEGIN:STANDARD
TZOFFSETFROM:-0500
TZOFFSETTO:-0600
TZNAME:CST
DTSTART:20271107T070000
END:STANDARD
END:VTIMEZONE
BEGIN:VEVENT
DTSTART;TZID=America/Chicago:20260506T100000
DTEND;TZID=America/Chicago:20260506T113000
DTSTAMP:20260423T120549
CREATED:20260421T205837Z
LAST-MODIFIED:20260421T205837Z
UID:10000600-1778061600-1778067000@amerenillinoissavings.com
SUMMARY:Galesburg Parks and Recreation Touch a Truck
DESCRIPTION:Join Galesburg Parks and Recreation for the fun and free annual event\, Touch a Truck! This event will have many amazing vehicles on wheels to explore and so much more! Dozens of participating organizations will be on site to provide information on local resources.
URL:https://amerenillinoissavings.com/event/galesburg-parks-and-recreation-touch-a-truck/
LOCATION:Lake Storey Park\, 1572 Mechan Dr\, Galesburg\, 61401
CATEGORIES:Residential
ORGANIZER;CN="Kierstin Newton":MAILTO:knewton@wmenergy.com
END:VEVENT
END:VCALENDAR